BEGIN:VCALENDAR
VERSION:2.0
PRODID:-//Pfarreiengemeinschaft Maria Hilf - ECPv6.15.20//NONSGML v1.0//EN
CALSCALE:GREGORIAN
METHOD:PUBLISH
X-WR-CALNAME:Pfarreiengemeinschaft Maria Hilf
X-ORIGINAL-URL:https://www.mariahilf-krumbach.de
X-WR-CALDESC:Veranstaltungen für Pfarreiengemeinschaft Maria Hilf
REFRESH-INTERVAL;VALUE=DURATION:PT1H
X-Robots-Tag:noindex
X-PUBLISHED-TTL:PT1H
BEGIN:VTIMEZONE
TZID:Europe/Berlin
BEGIN:DAYLIGHT
TZOFFSETFROM:+0100
TZOFFSETTO:+0200
TZNAME:CEST
DTSTART:20240331T010000
END:DAYLIGHT
BEGIN:STANDARD
TZOFFSETFROM:+0200
TZOFFSETTO:+0100
TZNAME:CET
DTSTART:20241027T010000
END:STANDARD
BEGIN:DAYLIGHT
TZOFFSETFROM:+0100
TZOFFSETTO:+0200
TZNAME:CEST
DTSTART:20250330T010000
END:DAYLIGHT
BEGIN:STANDARD
TZOFFSETFROM:+0200
TZOFFSETTO:+0100
TZNAME:CET
DTSTART:20251026T010000
END:STANDARD
BEGIN:DAYLIGHT
TZOFFSETFROM:+0100
TZOFFSETTO:+0200
TZNAME:CEST
DTSTART:20260329T010000
END:DAYLIGHT
BEGIN:STANDARD
TZOFFSETFROM:+0200
TZOFFSETTO:+0100
TZNAME:CET
DTSTART:20261025T010000
END:STANDARD
END:VTIMEZONE
BEGIN:VEVENT
DTSTART;TZID=Europe/Berlin:20250419T090000
DTEND;TZID=Europe/Berlin:20250419T170000
DTSTAMP:20260422T004814
CREATED:20250413T132701Z
LAST-MODIFIED:20250413T132701Z
UID:4878-1745053200-1745082000@www.mariahilf-krumbach.de
SUMMARY:Rätschaktion der Ministranten Maria Hilf
DESCRIPTION:Auch dieses Jahr ziehen die Ministranten Maria Hilf wieder mit ihren Rätschen durch das Pfarrgebiet und sammeln Spenden. Auch dieses Jahr geht ein Teil an die Aktion Hoffnung und ein Teil an die Minikasse um Aktionen wie Minifahrten oder Gruppenstunden zu finanzieren. \n 
URL:https://www.mariahilf-krumbach.de/event/raetschaktion-der-ministranten-maria-hilf/
CATEGORIES:Ministranten,Pfarrgemeinde
ATTACH;FMTTYPE=image/jpeg:https://www.mariahilf-krumbach.de/wp-content/uploads/2025/04/Raetschaktion-2025.jpg
ORGANIZER;CN="Ministranten Maria Hilf":MAILTO:minis-maria-hilf@gmx.de
END:VEVENT
END:VCALENDAR