BEGIN:VCALENDAR
VERSION:2.0
PRODID:-//Pfarreiengemeinschaft Maria Hilf - ECPv6.15.20//NONSGML v1.0//EN
CALSCALE:GREGORIAN
METHOD:PUBLISH
X-WR-CALNAME:Pfarreiengemeinschaft Maria Hilf
X-ORIGINAL-URL:https://www.mariahilf-krumbach.de
X-WR-CALDESC:Veranstaltungen für Pfarreiengemeinschaft Maria Hilf
REFRESH-INTERVAL;VALUE=DURATION:PT1H
X-Robots-Tag:noindex
X-PUBLISHED-TTL:PT1H
BEGIN:VTIMEZONE
TZID:Europe/Berlin
BEGIN:DAYLIGHT
TZOFFSETFROM:+0100
TZOFFSETTO:+0200
TZNAME:CEST
DTSTART:20250330T010000
END:DAYLIGHT
BEGIN:STANDARD
TZOFFSETFROM:+0200
TZOFFSETTO:+0100
TZNAME:CET
DTSTART:20251026T010000
END:STANDARD
BEGIN:DAYLIGHT
TZOFFSETFROM:+0100
TZOFFSETTO:+0200
TZNAME:CEST
DTSTART:20260329T010000
END:DAYLIGHT
BEGIN:STANDARD
TZOFFSETFROM:+0200
TZOFFSETTO:+0100
TZNAME:CET
DTSTART:20261025T010000
END:STANDARD
BEGIN:DAYLIGHT
TZOFFSETFROM:+0100
TZOFFSETTO:+0200
TZNAME:CEST
DTSTART:20270328T010000
END:DAYLIGHT
BEGIN:STANDARD
TZOFFSETFROM:+0200
TZOFFSETTO:+0100
TZNAME:CET
DTSTART:20271031T010000
END:STANDARD
END:VTIMEZONE
BEGIN:VEVENT
DTSTART;TZID=Europe/Berlin:20260422T140000
DTEND;TZID=Europe/Berlin:20260422T140000
DTSTAMP:20260422T012636
CREATED:20260325T153100Z
LAST-MODIFIED:20260325T153100Z
UID:6177-1776866400-1776866400@www.mariahilf-krumbach.de
SUMMARY:Seniorennachmittag im Pfarrheim
DESCRIPTION:
URL:https://www.mariahilf-krumbach.de/event/seniorennachmittag-im-pfarrheim-4/
CATEGORIES:Senioren
END:VEVENT
BEGIN:VEVENT
DTSTART;TZID=Europe/Berlin:20260422T140000
DTEND;TZID=Europe/Berlin:20260422T170000
DTSTAMP:20260422T012636
CREATED:20260124T134500Z
LAST-MODIFIED:20260124T135403Z
UID:5980-1776866400-1776877200@www.mariahilf-krumbach.de
SUMMARY:Seniorennachmittag
DESCRIPTION:
URL:https://www.mariahilf-krumbach.de/event/seniorennachmittag-7/
CATEGORIES:Senioren
END:VEVENT
BEGIN:VEVENT
DTSTART;TZID=Europe/Berlin:20260422T190000
DTEND;TZID=Europe/Berlin:20260422T200000
DTSTAMP:20260422T012636
CREATED:20260118T154305Z
LAST-MODIFIED:20260118T154305Z
UID:5920-1776884400-1776888000@www.mariahilf-krumbach.de
SUMMARY:Neulandchor - 19 Uhr Probe im Pfarrheim mit Erstkommunionkindern
DESCRIPTION:
URL:https://www.mariahilf-krumbach.de/event/neulandchor-19-uhr-probe-im-pfarrheim-mit-erstkommunionkindern-2/
CATEGORIES:Termine Neulandchor
END:VEVENT
END:VCALENDAR