BEGIN:VCALENDAR
VERSION:2.0
PRODID:-//Pfarreiengemeinschaft Maria Hilf - ECPv6.15.20//NONSGML v1.0//EN
CALSCALE:GREGORIAN
METHOD:PUBLISH
X-WR-CALNAME:Pfarreiengemeinschaft Maria Hilf
X-ORIGINAL-URL:https://www.mariahilf-krumbach.de
X-WR-CALDESC:Veranstaltungen für Pfarreiengemeinschaft Maria Hilf
REFRESH-INTERVAL;VALUE=DURATION:PT1H
X-Robots-Tag:noindex
X-PUBLISHED-TTL:PT1H
BEGIN:VTIMEZONE
TZID:Europe/Berlin
BEGIN:DAYLIGHT
TZOFFSETFROM:+0100
TZOFFSETTO:+0200
TZNAME:CEST
DTSTART:20250330T010000
END:DAYLIGHT
BEGIN:STANDARD
TZOFFSETFROM:+0200
TZOFFSETTO:+0100
TZNAME:CET
DTSTART:20251026T010000
END:STANDARD
BEGIN:DAYLIGHT
TZOFFSETFROM:+0100
TZOFFSETTO:+0200
TZNAME:CEST
DTSTART:20260329T010000
END:DAYLIGHT
BEGIN:STANDARD
TZOFFSETFROM:+0200
TZOFFSETTO:+0100
TZNAME:CET
DTSTART:20261025T010000
END:STANDARD
BEGIN:DAYLIGHT
TZOFFSETFROM:+0100
TZOFFSETTO:+0200
TZNAME:CEST
DTSTART:20270328T010000
END:DAYLIGHT
BEGIN:STANDARD
TZOFFSETFROM:+0200
TZOFFSETTO:+0100
TZNAME:CET
DTSTART:20271031T010000
END:STANDARD
END:VTIMEZONE
BEGIN:VEVENT
DTSTART;TZID=Europe/Berlin:20260417T140000
DTEND;TZID=Europe/Berlin:20260417T140000
DTSTAMP:20260421T103325
CREATED:20260325T153557Z
LAST-MODIFIED:20260325T153557Z
UID:6197-1776434400-1776434400@www.mariahilf-krumbach.de
SUMMARY:Edenhausen: Kleidersammlung der aktion hoffnung
DESCRIPTION:
URL:https://www.mariahilf-krumbach.de/event/edenhausen-kleidersammlung-der-aktion-hoffnung/
END:VEVENT
BEGIN:VEVENT
DTSTART;TZID=Europe/Berlin:20260417T190000
DTEND;TZID=Europe/Berlin:20260417T190000
DTSTAMP:20260421T103325
CREATED:20260325T153518Z
LAST-MODIFIED:20260325T153518Z
UID:6195-1776452400-1776452400@www.mariahilf-krumbach.de
SUMMARY:Frauenbundmesse in Maria Hilf\,  anschl. Mitgliederversammlung mit Neuwahlen im Pfarheim Maria Hilf
DESCRIPTION:
URL:https://www.mariahilf-krumbach.de/event/frauenbundmesse-in-maria-hilf-anschl-mitgliederversammlung-mit-neuwahlen-im-pfarheim-maria-hilf/
CATEGORIES:Frauenbund
END:VEVENT
END:VCALENDAR